BEGIN:VCALENDAR
VERSION:2.0
PRODID:-//St. Frances Cabrini Charitable Services - ECPv6.15.20//NONSGML v1.0//EN
CALSCALE:GREGORIAN
METHOD:PUBLISH
X-WR-CALNAME:St. Frances Cabrini Charitable Services
X-ORIGINAL-URL:https://stcabrini-new.walkoffjack.com
X-WR-CALDESC:Events for St. Frances Cabrini Charitable Services
REFRESH-INTERVAL;VALUE=DURATION:PT1H
X-Robots-Tag:noindex
X-PUBLISHED-TTL:PT1H
BEGIN:VTIMEZONE
TZID:America/Los_Angeles
BEGIN:DAYLIGHT
TZOFFSETFROM:-0800
TZOFFSETTO:-0700
TZNAME:PDT
DTSTART:20230312T100000
END:DAYLIGHT
BEGIN:STANDARD
TZOFFSETFROM:-0700
TZOFFSETTO:-0800
TZNAME:PST
DTSTART:20231105T090000
END:STANDARD
BEGIN:DAYLIGHT
TZOFFSETFROM:-0800
TZOFFSETTO:-0700
TZNAME:PDT
DTSTART:20240310T100000
END:DAYLIGHT
BEGIN:STANDARD
TZOFFSETFROM:-0700
TZOFFSETTO:-0800
TZNAME:PST
DTSTART:20241103T090000
END:STANDARD
BEGIN:DAYLIGHT
TZOFFSETFROM:-0800
TZOFFSETTO:-0700
TZNAME:PDT
DTSTART:20250309T100000
END:DAYLIGHT
BEGIN:STANDARD
TZOFFSETFROM:-0700
TZOFFSETTO:-0800
TZNAME:PST
DTSTART:20251102T090000
END:STANDARD
END:VTIMEZONE
BEGIN:VEVENT
DTSTART;TZID=America/Los_Angeles:20241207T093000
DTEND;TZID=America/Los_Angeles:20241207T113000
DTSTAMP:20260421T133258
CREATED:20230216T171853Z
LAST-MODIFIED:20240108T115728Z
UID:987995-1733563800-1733571000@stcabrini-new.walkoffjack.com
SUMMARY:December Mobile Drive-Through Food Distribution
DESCRIPTION:[column width=”1/1″ last=”true” title=”” title_type=”single” animation=”none” implicit=”true”] \nFresh Produce  •  Perishables  •   MORE Available! \nWe will have 100 pre-made boxes for distribution. Boxes will be loaded in your vehicle by volunteers. \nNo food card\, appointment or documentation needed. Name\, address and household size will be self-declared – use the table below to guide you. \nDownload the Flyer \n[/column] \n[column width=”1/1″ last=”true” title=”” title_type=”single” animation=”none” implicit=”true”] \n \n[/column]
URL:https://stcabrini-new.walkoffjack.com/event/mobile-drive-through-food-distribution-december-2-23/
LOCATION:St Frances Cabrini Charitable Services\, 302 W Main St.\, Walla Walla\, 99362\, United States
ATTACH;FMTTYPE=image/png:https://stcabrini-new.walkoffjack.com/wp-content/uploads/2023/02/Main-banner-meet-our-staff.png
END:VEVENT
BEGIN:VEVENT
DTSTART;TZID=America/Los_Angeles:20241121T160000
DTEND;TZID=America/Los_Angeles:20241121T190000
DTSTAMP:20260421T133258
CREATED:20231026T011426Z
LAST-MODIFIED:20240108T124853Z
UID:988269-1732204800-1732215600@stcabrini-new.walkoffjack.com
SUMMARY:Free Community Thanksgiving Dinner
DESCRIPTION:
URL:https://stcabrini-new.walkoffjack.com/event/free-community-thanksgiving-dinner/
LOCATION:DeSales High School\, 919 E Sumach\, Walla Walla\, WA\, 99362
END:VEVENT
BEGIN:VEVENT
DTSTART;TZID=America/Los_Angeles:20241102T093000
DTEND;TZID=America/Los_Angeles:20241102T113000
DTSTAMP:20260421T133258
CREATED:20230216T171817Z
LAST-MODIFIED:20240108T115707Z
UID:987993-1730539800-1730547000@stcabrini-new.walkoffjack.com
SUMMARY:November Mobile Drive-Through Food Distribution
DESCRIPTION:[column width=”1/1″ last=”true” title=”” title_type=”single” animation=”none” implicit=”true”] \nFresh Produce  •  Perishables  •   MORE Available! \nWe will have 100 pre-made boxes for distribution. Boxes will be loaded in your vehicle by volunteers. \nNo food card\, appointment or documentation needed. Name\, address and household size will be self-declared – use the table below to guide you. \nDownload the Flyer \n[/column] \n[column width=”1/1″ last=”true” title=”” title_type=”single” animation=”none” implicit=”true”] \n \n[/column]
URL:https://stcabrini-new.walkoffjack.com/event/mobile-drive-through-food-distribution-november-4-23/
LOCATION:St Frances Cabrini Charitable Services\, 302 W Main St.\, Walla Walla\, 99362\, United States
ATTACH;FMTTYPE=image/png:https://stcabrini-new.walkoffjack.com/wp-content/uploads/2023/02/Main-banner-meet-our-staff.png
END:VEVENT
BEGIN:VEVENT
DTSTART;TZID=America/Los_Angeles:20241005T093000
DTEND;TZID=America/Los_Angeles:20241005T113000
DTSTAMP:20260421T133258
CREATED:20230216T171730Z
LAST-MODIFIED:20240108T115659Z
UID:987991-1728120600-1728127800@stcabrini-new.walkoffjack.com
SUMMARY:October Mobile Drive-Through Food Distribution
DESCRIPTION:[column width=”1/1″ last=”true” title=”” title_type=”single” animation=”none” implicit=”true”] \nFresh Produce  •  Perishables  •   MORE Available! \nWe will have 100 pre-made boxes for distribution. Boxes will be loaded in your vehicle by volunteers. \nNo food card\, appointment or documentation needed. Name\, address and household size will be self-declared – use the table below to guide you. \nDownload the Flyer \n[/column] \n[column width=”1/1″ last=”true” title=”” title_type=”single” animation=”none” implicit=”true”] \n \n[/column]
URL:https://stcabrini-new.walkoffjack.com/event/mobile-drive-through-food-distribution-october-7-23/
LOCATION:St Frances Cabrini Charitable Services\, 302 W Main St.\, Walla Walla\, 99362\, United States
ATTACH;FMTTYPE=image/png:https://stcabrini-new.walkoffjack.com/wp-content/uploads/2023/02/Main-banner-meet-our-staff.png
END:VEVENT
BEGIN:VEVENT
DTSTART;TZID=America/Los_Angeles:20240907T090000
DTEND;TZID=America/Los_Angeles:20240907T110000
DTSTAMP:20260421T133258
CREATED:20240108T115622Z
LAST-MODIFIED:20240108T115622Z
UID:988397-1725699600-1725706800@stcabrini-new.walkoffjack.com
SUMMARY:September Mobile Drive-Through Food Distribution
DESCRIPTION:
URL:https://stcabrini-new.walkoffjack.com/event/september-mobile-drive-through-food-distribution/
END:VEVENT
BEGIN:VEVENT
DTSTART;TZID=America/Los_Angeles:20240803T093000
DTEND;TZID=America/Los_Angeles:20240803T113000
DTSTAMP:20260421T133258
CREATED:20230216T171451Z
LAST-MODIFIED:20240108T115415Z
UID:987988-1722677400-1722684600@stcabrini-new.walkoffjack.com
SUMMARY:August Mobile Drive-Through Food Distribution
DESCRIPTION:[column width=”1/1″ last=”true” title=”” title_type=”single” animation=”none” implicit=”true”] \nFresh Produce  •  Perishables  •   MORE Available! \nWe will have 100 pre-made boxes for distribution. Boxes will be loaded in your vehicle by volunteers. \nNo food card\, appointment or documentation needed. Name\, address and household size will be self-declared – use the table below to guide you. \nDownload the Flyer \n[/column] \n[column width=”1/1″ last=”true” title=”” title_type=”single” animation=”none” implicit=”true”] \n \n[/column]
URL:https://stcabrini-new.walkoffjack.com/event/mobile-drive-through-food-distribution-aug-5-23/
LOCATION:St Frances Cabrini Charitable Services\, 302 W Main St.\, Walla Walla\, 99362\, United States
ATTACH;FMTTYPE=image/png:https://stcabrini-new.walkoffjack.com/wp-content/uploads/2023/02/Main-banner-meet-our-staff.png
END:VEVENT
BEGIN:VEVENT
DTSTART;TZID=America/Los_Angeles:20240706T093000
DTEND;TZID=America/Los_Angeles:20240706T113000
DTSTAMP:20260421T133258
CREATED:20230216T171248Z
LAST-MODIFIED:20240108T115405Z
UID:987986-1720258200-1720265400@stcabrini-new.walkoffjack.com
SUMMARY:July Mobile Drive-Through Food Distribution
DESCRIPTION:[column width=”1/1″ last=”true” title=”” title_type=”single” animation=”none” implicit=”true”] \nFresh Produce  •  Perishables  •   MORE Available! \nWe will have 100 pre-made boxes for distribution. Boxes will be loaded in your vehicle by volunteers. \nNo food card\, appointment or documentation needed. Name\, address and household size will be self-declared – use the table below to guide you. \nDownload the Flyer \n[/column] \n[column width=”1/1″ last=”true” title=”” title_type=”single” animation=”none” implicit=”true”] \n \n[/column]
URL:https://stcabrini-new.walkoffjack.com/event/mobile-drive-through-food-distribution-july-1-23/
LOCATION:St Frances Cabrini Charitable Services\, 302 W Main St.\, Walla Walla\, 99362\, United States
ATTACH;FMTTYPE=image/png:https://stcabrini-new.walkoffjack.com/wp-content/uploads/2023/02/Main-banner-meet-our-staff.png
END:VEVENT
BEGIN:VEVENT
DTSTART;TZID=America/Los_Angeles:20240601T093000
DTEND;TZID=America/Los_Angeles:20240601T113000
DTSTAMP:20260421T133258
CREATED:20230216T171210Z
LAST-MODIFIED:20240108T115344Z
UID:987984-1717234200-1717241400@stcabrini-new.walkoffjack.com
SUMMARY:June Mobile Drive-Through Food Distribution
DESCRIPTION:[column width=”1/1″ last=”true” title=”” title_type=”single” animation=”none” implicit=”true”] \nFresh Produce  •  Perishables  •   MORE Available! \nWe will have 100 pre-made boxes for distribution. Boxes will be loaded in your vehicle by volunteers. \nNo food card\, appointment or documentation needed. Name\, address and household size will be self-declared – use the table below to guide you. \nDownload the Flyer \n[/column] \n[column width=”1/1″ last=”true” title=”” title_type=”single” animation=”none” implicit=”true”] \n \n[/column]
URL:https://stcabrini-new.walkoffjack.com/event/mobile-drive-through-food-distribution-june-3-23/
LOCATION:St Frances Cabrini Charitable Services\, 302 W Main St.\, Walla Walla\, 99362\, United States
ATTACH;FMTTYPE=image/png:https://stcabrini-new.walkoffjack.com/wp-content/uploads/2023/02/Main-banner-meet-our-staff.png
END:VEVENT
BEGIN:VEVENT
DTSTART;TZID=America/Los_Angeles:20240504T093000
DTEND;TZID=America/Los_Angeles:20240504T113000
DTSTAMP:20260421T133258
CREATED:20230216T171117Z
LAST-MODIFIED:20240108T115131Z
UID:987982-1714815000-1714822200@stcabrini-new.walkoffjack.com
SUMMARY:May Mobile Drive-Through Food Distribution
DESCRIPTION:[column width=”1/1″ last=”true” title=”” title_type=”single” animation=”none” implicit=”true”] \nFresh Produce  •  Perishables  •   MORE Available! \nWe will have 100 pre-made boxes for distribution. Boxes will be loaded in your vehicle by volunteers. \nNo food card\, appointment or documentation needed. Name\, address and household size will be self-declared – use the table below to guide you. \nDownload the Flyer \n[/column] \n[column width=”1/1″ last=”true” title=”” title_type=”single” animation=”none” implicit=”true”] \n \n[/column]
URL:https://stcabrini-new.walkoffjack.com/event/mobile-drive-through-food-distribution-may-6-23/
LOCATION:St Frances Cabrini Charitable Services\, 302 W Main St.\, Walla Walla\, 99362\, United States
ATTACH;FMTTYPE=image/png:https://stcabrini-new.walkoffjack.com/wp-content/uploads/2023/02/Main-banner-meet-our-staff.png
END:VEVENT
BEGIN:VEVENT
DTSTART;TZID=America/Los_Angeles:20240406T093000
DTEND;TZID=America/Los_Angeles:20240406T113000
DTSTAMP:20260421T133258
CREATED:20230216T171009Z
LAST-MODIFIED:20240108T114839Z
UID:987980-1712395800-1712403000@stcabrini-new.walkoffjack.com
SUMMARY:April Mobile Drive-Through Food Distribution
DESCRIPTION:[column width=”1/1″ last=”true” title=”” title_type=”single” animation=”none” implicit=”true”] \nFresh Produce  •  Perishables  •   MORE Available! \nWe will have 100 pre-made boxes for distribution. Boxes will be loaded in your vehicle by volunteers. \nNo food card\, appointment or documentation needed. Name\, address and household size will be self-declared – use the table below to guide you. \nDownload the Flyer \n[/column] \n[column width=”1/1″ last=”true” title=”” title_type=”single” animation=”none” implicit=”true”] \n \n[/column]
URL:https://stcabrini-new.walkoffjack.com/event/mobile-drive-through-food-distribution-april-1/
LOCATION:St Frances Cabrini Charitable Services\, 302 W Main St.\, Walla Walla\, 99362\, United States
ATTACH;FMTTYPE=image/png:https://stcabrini-new.walkoffjack.com/wp-content/uploads/2023/02/Main-banner-meet-our-staff.png
END:VEVENT
BEGIN:VEVENT
DTSTART;TZID=America/Los_Angeles:20240302T093000
DTEND;TZID=America/Los_Angeles:20240302T113000
DTSTAMP:20260421T133258
CREATED:20230216T170050Z
LAST-MODIFIED:20240108T114518Z
UID:987971-1709371800-1709379000@stcabrini-new.walkoffjack.com
SUMMARY:March Mobile Drive-Through Food Distribution
DESCRIPTION:[column width=”1/1″ last=”true” title=”” title_type=”single” animation=”none” implicit=”true”] \nFresh Produce  •  Perishables  •   MORE Available! \nWe will have 100 pre-made boxes for distribution. Boxes will be loaded in your vehicle by volunteers. \nNo food card\, appointment or documentation needed. Name\, address and household size will be self-declared – use the table below to guide you. \nDownload the Flyer \n[/column] \n[column width=”1/1″ last=”true” title=”” title_type=”single” animation=”none” implicit=”true”] \n \n[/column]
URL:https://stcabrini-new.walkoffjack.com/event/mobile-drive-through-food-distribution/
LOCATION:St Frances Cabrini Charitable Services\, 302 W Main St.\, Walla Walla\, 99362\, United States
ATTACH;FMTTYPE=image/png:https://stcabrini-new.walkoffjack.com/wp-content/uploads/2023/02/Main-banner-meet-our-staff.png
END:VEVENT
BEGIN:VEVENT
DTSTART;TZID=America/Los_Angeles:20240203T090000
DTEND;TZID=America/Los_Angeles:20240203T113000
DTSTAMP:20260421T133258
CREATED:20240108T114347Z
LAST-MODIFIED:20240108T114558Z
UID:988394-1706950800-1706959800@stcabrini-new.walkoffjack.com
SUMMARY:Feburary Mobile Drive-Through Food Distribution
DESCRIPTION:
URL:https://stcabrini-new.walkoffjack.com/event/feburary-mobile-drive-through-food-distribution/
END:VEVENT
END:VCALENDAR