BEGIN:VCALENDAR
VERSION:2.0
PRODID:-//St. Frances Cabrini Charitable Services - ECPv6.15.20//NONSGML v1.0//EN
CALSCALE:GREGORIAN
METHOD:PUBLISH
X-WR-CALNAME:St. Frances Cabrini Charitable Services
X-ORIGINAL-URL:https://stcabrini-new.walkoffjack.com
X-WR-CALDESC:Events for St. Frances Cabrini Charitable Services
REFRESH-INTERVAL;VALUE=DURATION:PT1H
X-Robots-Tag:noindex
X-PUBLISHED-TTL:PT1H
BEGIN:VTIMEZONE
TZID:America/Los_Angeles
BEGIN:DAYLIGHT
TZOFFSETFROM:-0800
TZOFFSETTO:-0700
TZNAME:PDT
DTSTART:20250309T100000
END:DAYLIGHT
BEGIN:STANDARD
TZOFFSETFROM:-0700
TZOFFSETTO:-0800
TZNAME:PST
DTSTART:20251102T090000
END:STANDARD
BEGIN:DAYLIGHT
TZOFFSETFROM:-0800
TZOFFSETTO:-0700
TZNAME:PDT
DTSTART:20260308T100000
END:DAYLIGHT
BEGIN:STANDARD
TZOFFSETFROM:-0700
TZOFFSETTO:-0800
TZNAME:PST
DTSTART:20261101T090000
END:STANDARD
BEGIN:DAYLIGHT
TZOFFSETFROM:-0800
TZOFFSETTO:-0700
TZNAME:PDT
DTSTART:20270314T100000
END:DAYLIGHT
BEGIN:STANDARD
TZOFFSETFROM:-0700
TZOFFSETTO:-0800
TZNAME:PST
DTSTART:20271107T090000
END:STANDARD
END:VTIMEZONE
BEGIN:VEVENT
DTSTART;TZID=America/Los_Angeles:20260515T190000
DTEND;TZID=America/Los_Angeles:20260515T220000
DTSTAMP:20260421T113934
CREATED:20260421T143856Z
LAST-MODIFIED:20260421T143856Z
UID:988529-1778871600-1778882400@stcabrini-new.walkoffjack.com
SUMMARY:Annual Charity Gala
DESCRIPTION:Join us for our annual charity gala — a night of celebration\, community\, and giving back.
URL:https://stcabrini-new.walkoffjack.com/event/annual-charity-gala/
END:VEVENT
END:VCALENDAR